Package: methylKit Version: 1.32.1 Command: /Library/Frameworks/R.framework/Resources/bin/R CMD INSTALL methylKit StartedAt: 2025-03-31 15:55:52 -0400 (Mon, 31 Mar 2025) EndedAt: 2025-03-31 15:56:56 -0400 (Mon, 31 Mar 2025) EllapsedTime: 63.4 seconds RetCode: 0 Status: OK