Package: methylKit Version: 1.32.1 Command: /Library/Frameworks/R.framework/Resources/bin/R CMD check --install=check:methylKit.install-out.txt --library=/Library/Frameworks/R.framework/Resources/library --no-vignettes --timings methylKit_1.32.1.tar.gz StartedAt: 2025-04-02 00:28:57 -0400 (Wed, 02 Apr 2025) EndedAt: 2025-04-02 00:35:18 -0400 (Wed, 02 Apr 2025) EllapsedTime: 380.8 seconds RetCode: 0 Status: OK CheckDir: methylKit.Rcheck Warnings: 0