Package: methylInheritance Version: 1.30.0 Command: /home/biocbuild/R/R/bin/R CMD check --install=check:methylInheritance.install-out.txt --library=/home/biocbuild/R/R/site-library --no-vignettes --timings methylInheritance_1.30.0.tar.gz StartedAt: 2025-04-01 08:10:25 -0000 (Tue, 01 Apr 2025) EndedAt: 2025-04-01 08:21:27 -0000 (Tue, 01 Apr 2025) EllapsedTime: 661.7 seconds RetCode: 0 Status: OK CheckDir: methylInheritance.Rcheck Warnings: 0