Package: methylGSA Version: 1.24.0 Command: /Library/Frameworks/R.framework/Resources/bin/R CMD INSTALL methylGSA StartedAt: 2025-03-31 18:13:19 -0400 (Mon, 31 Mar 2025) EndedAt: 2025-03-31 18:14:18 -0400 (Mon, 31 Mar 2025) EllapsedTime: 59.0 seconds RetCode: 0 Status: OK