Package: methylGSA Version: 1.24.0 Command: /Library/Frameworks/R.framework/Resources/bin/R CMD build --keep-empty-dirs --no-resave-data methylGSA StartedAt: 2025-04-01 02:57:51 -0400 (Tue, 01 Apr 2025) EndedAt: 2025-04-01 03:00:00 -0400 (Tue, 01 Apr 2025) EllapsedTime: 129.4 seconds RetCode: 0 Status: OK PackageFile: methylGSA_1.24.0.tar.gz PackageFileSize: 3.151 MiB