Package: methylGSA Version: 1.24.0 Command: rm -rf methylGSA.buildbin-libdir && mkdir methylGSA.buildbin-libdir && /Users/biocbuild/BBS/utils/build-universal.sh methylGSA_1.24.0.tar.gz /Library/Frameworks/R.framework/Resources/bin/R methylGSA.buildbin-libdir StartedAt: 2025-04-02 15:06:55 -0400 (Wed, 02 Apr 2025) EndedAt: 2025-04-02 15:07:59 -0400 (Wed, 02 Apr 2025) EllapsedTime: 64.3 seconds RetCode: 0 Status: OK PackageFile: methylGSA_1.24.0.tgz PackageFileSize: 3.199 MiB