Package: methyLImp2 Version: 1.2.0 Command: /home/biocbuild/R/R/bin/R CMD check --install=check:methyLImp2.install-out.txt --library=/home/biocbuild/R/R/site-library --no-vignettes --timings methyLImp2_1.2.0.tar.gz StartedAt: 2025-04-01 08:09:53 -0000 (Tue, 01 Apr 2025) EndedAt: 2025-04-01 08:13:23 -0000 (Tue, 01 Apr 2025) EllapsedTime: 210.2 seconds RetCode: 0 Status: OK CheckDir: methyLImp2.Rcheck Warnings: 0