Package: methodical Version: 1.2.0 Command: /home/biocbuild/R/R/bin/R CMD INSTALL methodical StartedAt: 2025-03-31 21:07:24 -0000 (Mon, 31 Mar 2025) EndedAt: 2025-03-31 21:08:14 -0000 (Mon, 31 Mar 2025) EllapsedTime: 50.1 seconds RetCode: 0 Status: OK