Package: methodical Version: 1.2.0 Command: /Library/Frameworks/R.framework/Resources/bin/R CMD build --keep-empty-dirs --no-resave-data methodical StartedAt: 2025-04-01 02:41:31 -0400 (Tue, 01 Apr 2025) EndedAt: 2025-04-01 02:59:27 -0400 (Tue, 01 Apr 2025) EllapsedTime: 1076.3 seconds RetCode: 0 Status: OK PackageFile: methodical_1.2.0.tar.gz PackageFileSize: 4.369 MiB