Package: methodical Version: 1.2.0 Maintainer: Richard Heery MaintainerEmail: richardheery at gmail.com git_url: https://git.bioconductor.org/packages/methodical git_branch: RELEASE_3_20 git_last_commit: 7d1635e git_last_commit_date: 2025-03-18 10:25:12 -0400 (Tue, 18 Mar 2025)