Package: methimpute Version: 1.28.0 Command: /Library/Frameworks/R.framework/Resources/bin/R CMD check --install=check:methimpute.install-out.txt --library=/Library/Frameworks/R.framework/Resources/library --no-vignettes --timings methimpute_1.28.0.tar.gz StartedAt: 2025-04-01 05:23:41 -0400 (Tue, 01 Apr 2025) EndedAt: 2025-04-01 05:28:45 -0400 (Tue, 01 Apr 2025) EllapsedTime: 304.1 seconds RetCode: 0 Status: WARNINGS CheckDir: methimpute.Rcheck Warnings: 1