Package: methimpute Version: 1.28.0 Command: rm -rf methimpute.buildbin-libdir && mkdir methimpute.buildbin-libdir && /Users/biocbuild/BBS/utils/build-universal.sh methimpute_1.28.0.tar.gz /Library/Frameworks/R.framework/Resources/bin/R methimpute.buildbin-libdir StartedAt: 2025-04-01 12:12:34 -0400 (Tue, 01 Apr 2025) EndedAt: 2025-04-01 12:13:59 -0400 (Tue, 01 Apr 2025) EllapsedTime: 85.0 seconds RetCode: 0 Status: OK PackageFile: methimpute_1.28.0.tgz PackageFileSize: 1.524 MiB