Package: methInheritSim Version: 1.28.0 Command: /Library/Frameworks/R.framework/Resources/bin/R CMD build --keep-empty-dirs --no-resave-data methInheritSim StartedAt: 2025-04-01 02:40:30 -0400 (Tue, 01 Apr 2025) EndedAt: 2025-04-01 02:41:47 -0400 (Tue, 01 Apr 2025) EllapsedTime: 76.7 seconds RetCode: 0 Status: OK PackageFile: methInheritSim_1.28.0.tar.gz PackageFileSize: 1.117 MiB