Package: metaseqR2 Version: 1.18.1 Command: F:\biocbuild\bbs-3.20-bioc\R\bin\R.exe CMD check --no-multiarch --install=check:metaseqR2.install-out.txt --library=F:\biocbuild\bbs-3.20-bioc\R\library --no-vignettes --timings metaseqR2_1.18.1.tar.gz StartedAt: 2025-04-01 03:15:34 -0400 (Tue, 01 Apr 2025) EndedAt: 2025-04-01 03:25:40 -0400 (Tue, 01 Apr 2025) EllapsedTime: 606.6 seconds RetCode: 0 Status: OK CheckDir: metaseqR2.Rcheck Warnings: 0