Package: metaseqR2 Version: 1.18.1 Command: /Library/Frameworks/R.framework/Resources/bin/R CMD INSTALL metaseqR2 StartedAt: 2025-03-31 16:40:08 -0400 (Mon, 31 Mar 2025) EndedAt: 2025-03-31 16:42:41 -0400 (Mon, 31 Mar 2025) EllapsedTime: 153.1 seconds RetCode: 0 Status: OK