Package: metaseqR2 Version: 1.18.1 Command: /Library/Frameworks/R.framework/Resources/bin/R CMD build --keep-empty-dirs --no-resave-data metaseqR2 StartedAt: 2025-03-31 19:55:42 -0400 (Mon, 31 Mar 2025) EndedAt: 2025-03-31 20:10:49 -0400 (Mon, 31 Mar 2025) EllapsedTime: 907.3 seconds RetCode: 0 Status: OK PackageFile: metaseqR2_1.18.1.tar.gz PackageFileSize: 2.68 MiB