Package: metaseqR2 Version: 1.18.1 Command: /Library/Frameworks/R.framework/Resources/bin/R CMD check --install=check:metaseqR2.install-out.txt --library=/Library/Frameworks/R.framework/Resources/library --no-vignettes --timings metaseqR2_1.18.1.tar.gz StartedAt: 2025-04-02 00:12:51 -0400 (Wed, 02 Apr 2025) EndedAt: 2025-04-02 00:21:58 -0400 (Wed, 02 Apr 2025) EllapsedTime: 546.6 seconds RetCode: 0 Status: OK CheckDir: metaseqR2.Rcheck Warnings: 0