Package: metapone Version: 1.12.0 Command: /home/biocbuild/R/R/bin/R CMD build --keep-empty-dirs --no-resave-data metapone StartedAt: 2025-04-01 00:40:05 -0000 (Tue, 01 Apr 2025) EndedAt: 2025-04-01 00:54:07 -0000 (Tue, 01 Apr 2025) EllapsedTime: 841.3 seconds RetCode: 0 Status: OK PackageFile: metapone_1.12.0.tar.gz PackageFileSize: 3.712 MiB