Package: metahdep Version: 1.64.0 Command: /home/biocbuild/R/R/bin/R CMD build --keep-empty-dirs --no-resave-data metahdep StartedAt: 2025-04-01 00:39:20 -0000 (Tue, 01 Apr 2025) EndedAt: 2025-04-01 00:39:21 -0000 (Tue, 01 Apr 2025) EllapsedTime: 1.0 seconds RetCode: 1 Status: ERROR PackageFile: None PackageFileSize: NA