Package: metahdep Version: 1.64.0 Command: F:\biocbuild\bbs-3.20-bioc\R\bin\R.exe CMD check --no-multiarch --install=check:metahdep.install-out.txt --library=F:\biocbuild\bbs-3.20-bioc\R\library --no-vignettes --timings metahdep_1.64.0.tar.gz StartedAt: 2025-04-01 03:14:27 -0400 (Tue, 01 Apr 2025) EndedAt: 2025-04-01 03:15:07 -0400 (Tue, 01 Apr 2025) EllapsedTime: 39.6 seconds RetCode: 0 Status: WARNINGS CheckDir: metahdep.Rcheck Warnings: 1