Package: metahdep Version: 1.64.0 Command: /Library/Frameworks/R.framework/Resources/bin/R CMD build --keep-empty-dirs --no-resave-data metahdep StartedAt: 2025-03-31 19:54:27 -0400 (Mon, 31 Mar 2025) EndedAt: 2025-03-31 19:54:50 -0400 (Mon, 31 Mar 2025) EllapsedTime: 22.9 seconds RetCode: 0 Status: OK PackageFile: metahdep_1.64.0.tar.gz PackageFileSize: 551.2 KiB