Package: metabolomicsWorkbenchR Version: 1.16.0 Command: /Library/Frameworks/R.framework/Resources/bin/R CMD build --keep-empty-dirs --no-resave-data metabolomicsWorkbenchR StartedAt: 2025-04-01 02:33:29 -0400 (Tue, 01 Apr 2025) EndedAt: 2025-04-01 02:34:34 -0400 (Tue, 01 Apr 2025) EllapsedTime: 64.3 seconds RetCode: 0 Status: OK PackageFile: metabolomicsWorkbenchR_1.16.0.tar.gz PackageFileSize: 2.399 MiB