Package: metabolomicsWorkbenchR Version: 1.16.0 Command: rm -rf metabolomicsWorkbenchR.buildbin-libdir && mkdir metabolomicsWorkbenchR.buildbin-libdir && /Users/biocbuild/BBS/utils/build-universal.sh metabolomicsWorkbenchR_1.16.0.tar.gz /Library/Frameworks/R.framework/Resources/bin/R metabolomicsWorkbenchR.buildbin-libdir StartedAt: 2025-04-02 15:04:08 -0400 (Wed, 02 Apr 2025) EndedAt: 2025-04-02 15:04:50 -0400 (Wed, 02 Apr 2025) EllapsedTime: 42.0 seconds RetCode: 0 Status: OK PackageFile: metabolomicsWorkbenchR_1.16.0.tgz PackageFileSize: 2.368 MiB