Package: metaMS Version: 1.42.0 Command: /home/biocbuild/R/R/bin/R CMD INSTALL metaMS StartedAt: 2025-03-31 20:52:42 -0000 (Mon, 31 Mar 2025) EndedAt: 2025-03-31 20:53:39 -0000 (Mon, 31 Mar 2025) EllapsedTime: 57.3 seconds RetCode: 0 Status: OK