Package: metaMS Version: 1.42.0 Command: /Library/Frameworks/R.framework/Resources/bin/R CMD INSTALL metaMS StartedAt: 2025-03-31 17:00:15 -0400 (Mon, 31 Mar 2025) EndedAt: 2025-03-31 17:01:07 -0400 (Mon, 31 Mar 2025) EllapsedTime: 51.9 seconds RetCode: 0 Status: OK