Package: metaMS Version: 1.42.0 Command: /Library/Frameworks/R.framework/Resources/bin/R CMD build --keep-empty-dirs --no-resave-data metaMS StartedAt: 2025-04-01 02:36:34 -0400 (Tue, 01 Apr 2025) EndedAt: 2025-04-01 02:38:02 -0400 (Tue, 01 Apr 2025) EllapsedTime: 87.6 seconds RetCode: 0 Status: OK PackageFile: metaMS_1.42.0.tar.gz PackageFileSize: 3.817 MiB