Package: messina Version: 1.42.0 Command: rm -rf messina.buildbin-libdir && mkdir messina.buildbin-libdir && F:\biocbuild\bbs-3.20-bioc\R\bin\R.exe CMD INSTALL --build --library=messina.buildbin-libdir messina_1.42.0.tar.gz StartedAt: 2025-04-01 08:33:45 -0400 (Tue, 01 Apr 2025) EndedAt: 2025-04-01 08:34:24 -0400 (Tue, 01 Apr 2025) EllapsedTime: 39.5 seconds RetCode: 0 Status: OK PackageFile: messina_1.42.0.zip PackageFileSize: 844.6 KiB