Package: messina Version: 1.42.0 Command: /home/biocbuild/bbs-3.20-bioc/R/bin/R CMD check --install=check:messina.install-out.txt --library=/home/biocbuild/bbs-3.20-bioc/R/site-library --timings messina_1.42.0.tar.gz StartedAt: 2025-03-31 23:40:19 -0400 (Mon, 31 Mar 2025) EndedAt: 2025-03-31 23:43:26 -0400 (Mon, 31 Mar 2025) EllapsedTime: 187.2 seconds RetCode: 0 Status: WARNINGS CheckDir: messina.Rcheck Warnings: 1