Package: messina Version: 1.42.0 Command: /Library/Frameworks/R.framework/Resources/bin/R CMD build --keep-empty-dirs --no-resave-data messina StartedAt: 2025-04-01 02:31:41 -0400 (Tue, 01 Apr 2025) EndedAt: 2025-04-01 02:33:10 -0400 (Tue, 01 Apr 2025) EllapsedTime: 89.4 seconds RetCode: 0 Status: OK PackageFile: messina_1.42.0.tar.gz PackageFileSize: 296.7 KiB