Package: meshr Version: 2.12.0 Command: F:\biocbuild\bbs-3.20-bioc\R\bin\R.exe CMD INSTALL meshr StartedAt: 2025-03-31 16:42:43 -0400 (Mon, 31 Mar 2025) EndedAt: 2025-03-31 16:43:16 -0400 (Mon, 31 Mar 2025) EllapsedTime: 32.7 seconds RetCode: 0 Status: OK