Package: meshr Version: 2.12.0 Command: chmod a+r meshr -R && F:\biocbuild\bbs-3.20-bioc\R\bin\R.exe CMD build --keep-empty-dirs --no-resave-data meshr StartedAt: 2025-03-31 20:00:59 -0400 (Mon, 31 Mar 2025) EndedAt: 2025-03-31 20:01:47 -0400 (Mon, 31 Mar 2025) EllapsedTime: 47.8 seconds RetCode: 0 Status: OK PackageFile: meshr_2.12.0.tar.gz PackageFileSize: 1002 KiB