Package: meshr Version: 2.12.0 Command: /home/biocbuild/bbs-3.20-bioc/R/bin/R CMD check --install=check:meshr.install-out.txt --library=/home/biocbuild/bbs-3.20-bioc/R/site-library --timings meshr_2.12.0.tar.gz StartedAt: 2025-03-31 23:39:57 -0400 (Mon, 31 Mar 2025) EndedAt: 2025-03-31 23:41:59 -0400 (Mon, 31 Mar 2025) EllapsedTime: 122.1 seconds RetCode: 0 Status: OK CheckDir: meshr.Rcheck Warnings: 0