Package: meshr Version: 2.12.0 Command: /Library/Frameworks/R.framework/Resources/bin/R CMD INSTALL meshr StartedAt: 2025-03-31 16:15:44 -0400 (Mon, 31 Mar 2025) EndedAt: 2025-03-31 16:16:31 -0400 (Mon, 31 Mar 2025) EllapsedTime: 46.1 seconds RetCode: 0 Status: OK