Package: meshr Version: 2.12.0 Command: /Library/Frameworks/R.framework/Resources/bin/R CMD check --install=check:meshr.install-out.txt --library=/Library/Frameworks/R.framework/Resources/library --no-vignettes --timings meshr_2.12.0.tar.gz StartedAt: 2025-04-01 05:18:02 -0400 (Tue, 01 Apr 2025) EndedAt: 2025-04-01 05:22:16 -0400 (Tue, 01 Apr 2025) EllapsedTime: 253.6 seconds RetCode: 0 Status: OK CheckDir: meshr.Rcheck Warnings: 0