Package: meshr Version: 2.12.0 Command: /Library/Frameworks/R.framework/Resources/bin/R CMD build --keep-empty-dirs --no-resave-data meshr StartedAt: 2025-03-31 19:53:00 -0400 (Mon, 31 Mar 2025) EndedAt: 2025-03-31 19:53:53 -0400 (Mon, 31 Mar 2025) EllapsedTime: 53.2 seconds RetCode: 0 Status: OK PackageFile: meshr_2.12.0.tar.gz PackageFileSize: 1002 KiB