Package: meshr Version: 2.12.0 Command: /Library/Frameworks/R.framework/Resources/bin/R CMD build --keep-empty-dirs --no-resave-data meshr StartedAt: 2025-04-01 02:31:12 -0400 (Tue, 01 Apr 2025) EndedAt: 2025-04-01 02:31:41 -0400 (Tue, 01 Apr 2025) EllapsedTime: 28.4 seconds RetCode: 0 Status: OK PackageFile: meshr_2.12.0.tar.gz PackageFileSize: 1002 KiB