Package: meshr Version: 2.12.0 Command: rm -rf meshr.buildbin-libdir && mkdir meshr.buildbin-libdir && /Users/biocbuild/BBS/utils/build-universal.sh meshr_2.12.0.tar.gz /Library/Frameworks/R.framework/Resources/bin/R meshr.buildbin-libdir StartedAt: 2025-04-02 15:03:37 -0400 (Wed, 02 Apr 2025) EndedAt: 2025-04-02 15:04:05 -0400 (Wed, 02 Apr 2025) EllapsedTime: 27.3 seconds RetCode: 0 Status: OK PackageFile: meshr_2.12.0.tgz PackageFileSize: 927.3 KiB