Package: memes Version: 1.14.0 Command: /home/biocbuild/R/R/bin/R CMD check --install=check:memes.install-out.txt --library=/home/biocbuild/R/R/site-library --no-vignettes --timings memes_1.14.0.tar.gz StartedAt: 2025-04-01 08:02:52 -0000 (Tue, 01 Apr 2025) EndedAt: 2025-04-01 08:05:22 -0000 (Tue, 01 Apr 2025) EllapsedTime: 150.2 seconds RetCode: 1 Status: ERROR CheckDir: memes.Rcheck Warnings: NA