Package: memes Version: 1.14.0 Command: /Library/Frameworks/R.framework/Resources/bin/R CMD check --install=check:memes.install-out.txt --library=/Library/Frameworks/R.framework/Resources/library --no-vignettes --timings memes_1.14.0.tar.gz StartedAt: 2025-04-01 05:16:13 -0400 (Tue, 01 Apr 2025) EndedAt: 2025-04-01 05:20:24 -0400 (Tue, 01 Apr 2025) EllapsedTime: 251.0 seconds RetCode: 0 Status: WARNINGS CheckDir: memes.Rcheck Warnings: 1