Package: megadepth Version: 1.16.0 Command: /home/biocbuild/R/R/bin/R CMD build --keep-empty-dirs --no-resave-data megadepth StartedAt: 2025-04-01 00:37:06 -0000 (Tue, 01 Apr 2025) EndedAt: 2025-04-01 00:37:34 -0000 (Tue, 01 Apr 2025) EllapsedTime: 28.0 seconds RetCode: 1 Status: ERROR PackageFile: None PackageFileSize: NA