Package: megadepth Version: 1.16.0 Command: /Library/Frameworks/R.framework/Resources/bin/R CMD INSTALL megadepth StartedAt: 2025-03-31 17:05:03 -0400 (Mon, 31 Mar 2025) EndedAt: 2025-03-31 17:05:16 -0400 (Mon, 31 Mar 2025) EllapsedTime: 12.8 seconds RetCode: 0 Status: OK