Package: megadepth Version: 1.16.0 Command: /Library/Frameworks/R.framework/Resources/bin/R CMD build --keep-empty-dirs --no-resave-data megadepth StartedAt: 2025-04-01 02:29:04 -0400 (Tue, 01 Apr 2025) EndedAt: 2025-04-01 02:29:26 -0400 (Tue, 01 Apr 2025) EllapsedTime: 21.7 seconds RetCode: 1 Status: ERROR PackageFile: None PackageFileSize: NA