Package: mdqc Version: 1.68.0 Command: /home/biocbuild/R/R/bin/R CMD check --install=check:mdqc.install-out.txt --library=/home/biocbuild/R/R/site-library --no-vignettes --timings mdqc_1.68.0.tar.gz StartedAt: 2025-04-01 07:59:47 -0000 (Tue, 01 Apr 2025) EndedAt: 2025-04-01 08:00:08 -0000 (Tue, 01 Apr 2025) EllapsedTime: 20.0 seconds RetCode: 0 Status: OK CheckDir: mdqc.Rcheck Warnings: 0