Package: mdqc Version: 1.68.0 Command: rm -rf mdqc.buildbin-libdir && mkdir mdqc.buildbin-libdir && F:\biocbuild\bbs-3.20-bioc\R\bin\R.exe CMD INSTALL --build --library=mdqc.buildbin-libdir mdqc_1.68.0.tar.gz StartedAt: 2025-04-01 08:33:08 -0400 (Tue, 01 Apr 2025) EndedAt: 2025-04-01 08:33:20 -0400 (Tue, 01 Apr 2025) EllapsedTime: 12.0 seconds RetCode: 0 Status: OK PackageFile: mdqc_1.68.0.zip PackageFileSize: 184.3 KiB