Package: mdqc Version: 1.68.0 Command: /Library/Frameworks/R.framework/Resources/bin/R CMD INSTALL mdqc StartedAt: 2025-03-31 15:04:45 -0400 (Mon, 31 Mar 2025) EndedAt: 2025-03-31 15:04:47 -0400 (Mon, 31 Mar 2025) EllapsedTime: 2.4 seconds RetCode: 0 Status: OK