Package: mdp Version: 1.26.0 Command: /Library/Frameworks/R.framework/Resources/bin/R CMD INSTALL mdp StartedAt: 2025-03-31 15:11:48 -0400 (Mon, 31 Mar 2025) EndedAt: 2025-03-31 15:11:57 -0400 (Mon, 31 Mar 2025) EllapsedTime: 8.5 seconds RetCode: 0 Status: OK