Package: mdp Version: 1.26.0 Command: /Library/Frameworks/R.framework/Resources/bin/R CMD build --keep-empty-dirs --no-resave-data mdp StartedAt: 2025-03-31 19:50:23 -0400 (Mon, 31 Mar 2025) EndedAt: 2025-03-31 19:51:16 -0400 (Mon, 31 Mar 2025) EllapsedTime: 53.0 seconds RetCode: 0 Status: OK PackageFile: mdp_1.26.0.tar.gz PackageFileSize: 4.4 MiB