Package: mbQTL Version: 1.6.0 Command: /Library/Frameworks/R.framework/Resources/bin/R CMD INSTALL mbQTL StartedAt: 2025-03-31 16:23:27 -0400 (Mon, 31 Mar 2025) EndedAt: 2025-03-31 16:23:48 -0400 (Mon, 31 Mar 2025) EllapsedTime: 21.3 seconds RetCode: 0 Status: OK