Package: matter Version: 2.8.0 Command: /home/biocbuild/R/R/bin/R CMD INSTALL matter StartedAt: 2025-03-31 20:37:06 -0000 (Mon, 31 Mar 2025) EndedAt: 2025-03-31 20:38:13 -0000 (Mon, 31 Mar 2025) EllapsedTime: 66.8 seconds RetCode: 0 Status: OK