Package: matter Version: 2.8.0 Command: /Library/Frameworks/R.framework/Resources/bin/R CMD build --keep-empty-dirs --no-resave-data matter StartedAt: 2025-04-01 02:22:46 -0400 (Tue, 01 Apr 2025) EndedAt: 2025-04-01 02:24:18 -0400 (Tue, 01 Apr 2025) EllapsedTime: 91.9 seconds RetCode: 0 Status: OK PackageFile: matter_2.8.0.tar.gz PackageFileSize: 2.809 MiB